<?xml version="1.0" encoding="UTF-8" standalone="no"?>
<metadata xml:lang="fr">
<Esri>
<CreaDate>20190408</CreaDate>
<CreaTime>17584900</CreaTime>
<ArcGISFormat>1.0</ArcGISFormat>
<ArcGISstyle>FGDC CSDGM Metadata</ArcGISstyle>
<SyncOnce>FALSE</SyncOnce>
<DataProperties>
<itemProps>
<itemName Sync="TRUE">G_gb_bugey</itemName>
<imsContentType Sync="TRUE">002</imsContentType>
<nativeExtBox>
<westBL Sync="TRUE">876805.250000</westBL>
<eastBL Sync="TRUE">935767.750000</eastBL>
<southBL Sync="TRUE">6504704.250000</southBL>
<northBL Sync="TRUE">6595440.250000</northBL>
<exTypeCode Sync="TRUE">1</exTypeCode>
</nativeExtBox>
</itemProps>
<coordRef>
<type Sync="TRUE">Projected</type>
<geogcsn Sync="TRUE">GCS_grs80</geogcsn>
<csUnits Sync="TRUE">Linear Unit: Meter (1.000000)</csUnits>
<projcsn Sync="TRUE">RGF93_Lambert_93</projcsn>
<peXml Sync="TRUE">&lt;ProjectedCoordinateSystem xsi:type='typens:ProjectedCoordinateSystem' xmlns:xsi='http://www.w3.org/2001/XMLSchema-instance' xmlns:xs='http://www.w3.org/2001/XMLSchema' xmlns:typens='http://www.esri.com/schemas/ArcGIS/10.5'&gt;&lt;WKT&gt;PROJCS[&amp;quot;RGF93_Lambert_93&amp;quot;,GEOGCS[&amp;quot;GCS_grs80&amp;quot;,DATUM[&amp;quot;D_unknown&amp;quot;,SPHEROID[&amp;quot;Geodetic_Reference_System_1980&amp;quot;,6378137.0,298.257222101]],PRIMEM[&amp;quot;Greenwich&amp;quot;,0.0],UNIT[&amp;quot;Degree&amp;quot;,0.0174532925199433]],PROJECTION[&amp;quot;Lambert_Conformal_Conic&amp;quot;],PARAMETER[&amp;quot;false_easting&amp;quot;,700000.0],PARAMETER[&amp;quot;false_northing&amp;quot;,6600000.0],PARAMETER[&amp;quot;central_meridian&amp;quot;,3.0],PARAMETER[&amp;quot;standard_parallel_1&amp;quot;,44.0],PARAMETER[&amp;quot;standard_parallel_2&amp;quot;,49.0],PARAMETER[&amp;quot;latitude_of_origin&amp;quot;,46.5],UNIT[&amp;quot;Meter&amp;quot;,1.0]]&lt;/WKT&gt;&lt;XOrigin&gt;-35597500&lt;/XOrigin&gt;&lt;YOrigin&gt;-23641900&lt;/YOrigin&gt;&lt;XYScale&gt;124074650.52332792&lt;/XYScale&gt;&lt;ZOrigin&gt;-100000&lt;/ZOrigin&gt;&lt;ZScale&gt;10000&lt;/ZScale&gt;&lt;MOrigin&gt;-100000&lt;/MOrigin&gt;&lt;MScale&gt;10000&lt;/MScale&gt;&lt;XYTolerance&gt;0.001&lt;/XYTolerance&gt;&lt;ZTolerance&gt;0.001&lt;/ZTolerance&gt;&lt;MTolerance&gt;0.001&lt;/MTolerance&gt;&lt;HighPrecision&gt;true&lt;/HighPrecision&gt;&lt;/ProjectedCoordinateSystem&gt;</peXml>
</coordRef>
<RasterProperties>
<General>
<PixelDepth Sync="TRUE">8</PixelDepth>
<HasColormap Sync="TRUE">TRUE</HasColormap>
<CompressionType Sync="TRUE">None</CompressionType>
<NumBands Sync="TRUE">1</NumBands>
<Format Sync="TRUE">TIFF</Format>
<HasPyramids Sync="TRUE">TRUE</HasPyramids>
<SourceType Sync="TRUE">discrete</SourceType>
<PixelType Sync="TRUE">unsigned integer</PixelType>
<NoDataValue Sync="TRUE">
</NoDataValue>
</General>
</RasterProperties>
</DataProperties>
<SyncDate>20190906</SyncDate>
<SyncTime>14293200</SyncTime>
<ModDate>20190906</ModDate>
<ModTime>14293200</ModTime>
<scaleRange>
<minScale>150000000</minScale>
<maxScale>5000</maxScale>
</scaleRange>
<ArcGISProfile>FGDC</ArcGISProfile>
</Esri>
<dataIdInfo>
<envirDesc Sync="TRUE"> Version 6.2 (Build 9200) ; Esri ArcGIS 10.5.1.7333</envirDesc>
<dataLang>
<languageCode Sync="TRUE" value="fra">
</languageCode>
<countryCode Sync="TRUE" value="FRA">
</countryCode>
</dataLang>
<idCitation>
<resTitle Sync="TRUE">G_gb_bugey</resTitle>
<presForm>
<PresFormCd Sync="TRUE" value="011">
</PresFormCd>
</presForm>
</idCitation>
<spatRpType>
<SpatRepTypCd Sync="TRUE" value="002">
</SpatRepTypCd>
</spatRpType>
<dataExt>
<geoEle>
<GeoBndBox esriExtentType="search">
<exTypeCode Sync="TRUE">1</exTypeCode>
<westBL Sync="TRUE">5.269118</westBL>
<eastBL Sync="TRUE">6.070444</eastBL>
<northBL Sync="TRUE">46.435722</northBL>
<southBL Sync="TRUE">45.601205</southBL>
</GeoBndBox>
</geoEle>
</dataExt>
<idPurp>Surface terrière des gros bois en m² par hectare (m²/ha)
Rasters dendrométrique issus du LiDAR grand-genève-france acquis entre octobre et decembre 2014
La...</idPurp>
<searchKeys>
<keyword>ONF</keyword>
<keyword>forêt</keyword>
<keyword>dendrométrique</keyword>
</searchKeys>
<idCredit>Cartographie prédictive des paramètres forestiers des montagnes de l'Ain, Office National des Forêts,
A. Munoz, S. Dumas, 2017</idCredit>
<idAbs>&lt;DIV STYLE="text-align:Left;"&gt;&lt;DIV&gt;&lt;DIV&gt;&lt;P STYLE="margin:0 0 0 0;"&gt;&lt;A href="https://carto.ain.fr/webapps/externe/doc/ONF_notice_modeles_LiDAR_v2.pdf"&gt;&lt;SPAN STYLE="font-size:12pt"&gt;lien vers descriptif pdf&lt;/SPAN&gt;&lt;/A&gt;&lt;/P&gt;&lt;P STYLE="margin:0 0 0 0;"&gt;&lt;SPAN /&gt;&lt;/P&gt;&lt;P STYLE="margin:0 0 0 0;"&gt;&lt;SPAN STYLE="font-weight:bold;"&gt;1 - Principes de modélisation&lt;/SPAN&gt;&lt;/P&gt;&lt;P STYLE="margin:0 0 0 0;"&gt;&lt;SPAN&gt;Les présents modèles sont construits à partir de la détection des apex identifiés sur le modèle numérique de hauteur issus des couvertures LiDAR. Seules les hauteurs supérieures à 13 mètres associés à des cuvettes de plus de 5 mètres carrés sont conservées. Le traitement est effectué à l'exclusion du type "non boisé" de la cartographie de peuplement v.2 de l'IFN. Chaque apex est classé comme feuillu ou résineux en fonction des pentes de son houppier et de sa réflectance mesurée sur les images SPOT 6. Les diamètres à 1.30m et les accroissements sont estimés par les caractéristiques de la cuvette associée à l'apex. A l'échelle du pixel de 26.5m de côté, les surfaces terrières prédites pour chaque arbre sont sommées par essence et catégories de diamètres. Les résultats obtenus sont corrigés selon des modèles linéaires. Les modèles appliquées aux apex et aux pixels sont calibrés à l'aide des placettes de l'observatoire forestier. Ils sont validés sur un nouveau jeu de 240 placettes de 15 mètres de rayon mesurées en 2015 et indépendant du jeu de calibration.&lt;/SPAN&gt;&lt;/P&gt;&lt;P STYLE="margin:0 0 0 0;"&gt;&lt;SPAN /&gt;&lt;/P&gt;&lt;P STYLE="margin:0 0 0 0;"&gt;&lt;SPAN STYLE="font-weight:bold;"&gt;2 - Validité des paramètres modélisés&lt;/SPAN&gt;&lt;/P&gt;&lt;P STYLE="margin:0 0 0 0;"&gt;&lt;SPAN&gt;En règle générale, la validité des paramètres modélisés n'est pas connue pour les peuplements rares et atypiques à l'échelle des montagnes de l'Ain. Ces peuplements sont par exemple les plantations de mélèzes, les pinèdes à cochet, les jeunes futaies feuillues éclaircies… La validité en peuplement de pinèdes noires ou sylvestres n'a pas été vérifiée. Toutes les données s'entendent pour un diamètre de pré-comptage de 17.5 cm à 1.30m (sauf mention contraire).&lt;/SPAN&gt;&lt;/P&gt;&lt;P STYLE="margin:0 0 0 0;"&gt;&lt;SPAN /&gt;&lt;/P&gt;&lt;P STYLE="margin:0 0 0 0;"&gt;&lt;SPAN STYLE="font-weight:bold;"&gt;3 - Précautions pour la réalisation de calculs à partir des données des rasters&lt;/SPAN&gt;&lt;/P&gt;&lt;P STYLE="margin:0 0 0 0;"&gt;&lt;SPAN&gt;Pour les valeurs de surface terrière, de production, de densité de tiges, de types de peuplement, la valeur zéro doit être utilisée en cas d'absence de données. Ces cas correspondent, soit à des peuplements de hauteur inférieure à 13 mètres (composé a priori d'arbres de diamètre inférieur à 17,5 centimètres), soit à un type de peuplement IFN non boisé. Pour les types de peuplement, la valeur zéro correspond à un peuplement non pré-comptable, ou à une zone non boisée. Pour les valeurs de hauteur, de diamètre, de Gini, la valeur NULL doit être utilisée en cas d'absence de données. Les pixels de lisière intègrent sur une partie de leur surface une zone non boisée. Dans le cas où la zone d'extraction intègre de tels pixels, Il est important d'appliquer à la surface d'extraction un buffer négatif qui permettra d'exclure ses points.&lt;/SPAN&gt;&lt;/P&gt;&lt;/DIV&gt;&lt;/DIV&gt;&lt;/DIV&gt;</idAbs>
<resConst>
<Consts>
<useLimit/>
</Consts>
</resConst>
</dataIdInfo>
<mdLang>
<languageCode Sync="TRUE" value="fra">
</languageCode>
<countryCode Sync="TRUE" value="FRA">
</countryCode>
</mdLang>
<mdChar>
<CharSetCd Sync="TRUE" value="004">
</CharSetCd>
</mdChar>
<distInfo>
<distFormat>
<formatName Sync="TRUE">Jeu de données raster de géodatabase fichier</formatName>
</distFormat>
</distInfo>
<mdHrLv>
<ScopeCd Sync="TRUE" value="005">
</ScopeCd>
</mdHrLv>
<mdHrLvName Sync="TRUE">dataset</mdHrLvName>
<refSysInfo>
<RefSystem>
<refSysID>
<identCode Sync="TRUE" code="0">
</identCode>
</refSysID>
</RefSystem>
</refSysInfo>
<spatRepInfo>
<Georect>
<cellGeo>
<CellGeoCd Sync="TRUE" value="002">
</CellGeoCd>
</cellGeo>
<numDims Sync="TRUE">2</numDims>
<tranParaAv Sync="TRUE">1</tranParaAv>
<chkPtAv Sync="TRUE">0</chkPtAv>
<cornerPts>
<pos Sync="TRUE">876805.250000 6504704.250000</pos>
</cornerPts>
<cornerPts>
<pos Sync="TRUE">876805.250000 6595440.250000</pos>
</cornerPts>
<cornerPts>
<pos Sync="TRUE">935767.750000 6595440.250000</pos>
</cornerPts>
<cornerPts>
<pos Sync="TRUE">935767.750000 6504704.250000</pos>
</cornerPts>
<centerPt>
<pos Sync="TRUE">906286.500000 6550072.250000</pos>
</centerPt>
<axisDimension type="002">
<dimSize Sync="TRUE">2225</dimSize>
<dimResol>
<value Sync="TRUE" uom="m">26.500000</value>
</dimResol>
</axisDimension>
<axisDimension type="001">
<dimSize Sync="TRUE">3424</dimSize>
<dimResol>
<value Sync="TRUE" uom="m">26.500000</value>
</dimResol>
</axisDimension>
<ptInPixel>
<PixOrientCd Sync="TRUE" value="001">
</PixOrientCd>
</ptInPixel>
</Georect>
</spatRepInfo>
<contInfo>
<ImgDesc>
<contentTyp>
<ContentTypCd Sync="TRUE" value="002">
</ContentTypCd>
</contentTyp>
<covDim>
<Band>
<dimDescrp Sync="TRUE">Band_1</dimDescrp>
<bitsPerVal Sync="TRUE">8</bitsPerVal>
<valUnit>
<UOM type="length">
</UOM>
</valUnit>
</Band>
</covDim>
</ImgDesc>
</contInfo>
<mdDateSt Sync="TRUE">20190906</mdDateSt>
<spdoinfo>
<rastinfo>
<rasttype Sync="TRUE">Pixel</rasttype>
<rowcount Sync="TRUE">3424</rowcount>
<colcount Sync="TRUE">2225</colcount>
<rastxsz Sync="TRUE">26,500000</rastxsz>
<rastysz Sync="TRUE">26,500000</rastysz>
<rastbpp Sync="TRUE">8</rastbpp>
<vrtcount Sync="TRUE">1</vrtcount>
<rastorig Sync="TRUE">Upper Left</rastorig>
<rastcmap Sync="TRUE">TRUE</rastcmap>
<rastcomp Sync="TRUE">LZ77</rastcomp>
<rastband Sync="TRUE">1</rastband>
<rastdtyp Sync="TRUE">pixel codes</rastdtyp>
<rastifor Sync="TRUE">FGDBR</rastifor>
<rastplyr Sync="TRUE">TRUE</rastplyr>
</rastinfo>
</spdoinfo>
<spref>
<horizsys>
<planar>
<planci>
<plance Sync="TRUE">row and column</plance>
<coordrep>
<absres Sync="TRUE">26,500000</absres>
<ordres Sync="TRUE">26,500000</ordres>
</coordrep>
</planci>
</planar>
</horizsys>
</spref>
</metadata>
