lien vers descriptif pdf<\/SPAN><\/A><\/P><\/P>
1 - Principes de modélisation<\/SPAN><\/P>Les présents modèles sont construits à partir de la détection des apex identifiés sur le modèle numérique de hauteur issus des couvertures LiDAR. Seules les hauteurs supérieures à 13 mètres associés à des cuvettes de plus de 5 mètres carrés sont conservées. Le traitement est effectué à l'exclusion du type \"non boisé\" de la cartographie de peuplement v.2 de l'IFN. Chaque apex est classé comme feuillu ou résineux en fonction des pentes de son houppier et de sa réflectance mesurée sur les images SPOT 6. Les diamètres à 1.30m et les accroissements sont estimés par les caractéristiques de la cuvette associée à l'apex. A l'échelle du pixel de 26.5m de côté, les surfaces terrières prédites pour chaque arbre sont sommées par essence et catégories de diamètres. Les résultats obtenus sont corrigés selon des modèles linéaires. Les modèles appliquées aux apex et aux pixels sont calibrés à l'aide des placettes de l'observatoire forestier. Ils sont validés sur un nouveau jeu de 240 placettes de 15 mètres de rayon mesurées en 2015 et indépendant du jeu de calibration.<\/SPAN><\/P><\/P>
2 - Validité des paramètres modélisés<\/SPAN><\/P>En règle générale, la validité des paramètres modélisés n'est pas connue pour les peuplements rares et atypiques à l'échelle des montagnes de l'Ain. Ces peuplements sont par exemple les plantations de mélèzes, les pinèdes à cochet, les jeunes futaies feuillues éclaircies\u2026 La validité en peuplement de pinèdes noires ou sylvestres n'a pas été vérifiée. Toutes les données s'entendent pour un diamètre de pré-comptage de 17.5 cm à 1.30m (sauf mention contraire).<\/SPAN><\/P><\/P>
3 - Précautions pour la réalisation de calculs à partir des données des rasters<\/SPAN><\/P>Pour les valeurs de surface terrière, de production, de densité de tiges, de types de peuplement, la valeur zéro doit être utilisée en cas d'absence de données. Ces cas correspondent, soit à des peuplements de hauteur inférieure à 13 mètres (composé a priori d'arbres de diamètre inférieur à 17,5 centimètres), soit à un type de peuplement IFN non boisé. Pour les types de peuplement, la valeur zéro correspond à un peuplement non pré-comptable, ou à une zone non boisée. Pour les valeurs de hauteur, de diamètre, de Gini, la valeur NULL doit être utilisée en cas d'absence de données. Les pixels de lisière intègrent sur une partie de leur surface une zone non boisée. Dans le cas où la zone d'extraction intègre de tels pixels, Il est important d'appliquer à la surface d'extraction un buffer négatif qui permettra d'exclure ses points.<\/SPAN><\/P><\/DIV><\/DIV><\/DIV>",
"extent": {
"xmin": 876805.25,
"ymin": 6504704.25,
"xmax": 943551.75,
"ymax": 6595440.25,
"spatialReference": {
"wkid": 102110,
"latestWkid": 2154
}
},
"initialExtent": {
"xmin": 876805.25,
"ymin": 6504704.25,
"xmax": 943551.75,
"ymax": 6595440.25,
"spatialReference": {
"wkid": 102110,
"latestWkid": 2154
}
},
"fullExtent": {
"xmin": 876805.25,
"ymin": 6504704.25,
"xmax": 943551.75,
"ymax": 6595440.25,
"spatialReference": {
"wkid": 102110,
"latestWkid": 2154
}
},
"pixelSizeX": 26.49722111949186,
"pixelSizeY": 26.5,
"bandCount": 3,
"pixelType": "U8",
"minPixelSize": 0,
"maxPixelSize": 0,
"copyrightText": "Cartographie prédictive des paramètres forestiers des montagnes de l'Ain, Office National des Forêts,\nA. Munoz, S. Dumas, 2017",
"serviceDataType": "esriImageServiceDataTypeThematic",
"minValues": [],
"maxValues": [],
"meanValues": [],
"stdvValues": [],
"objectIdField": "",
"fields": [],
"capabilities": "Image,Mensuration,Metadata,Tilemap",
"defaultMosaicMethod": "Center",
"allowedMosaicMethods": "",
"sortField": "",
"sortValue": null,
"mosaicOperator": "First",
"defaultCompressionQuality": 75,
"defaultResamplingMethod": "Bilinear",
"maxImageHeight": 4100,
"maxImageWidth": 15000,
"allowRasterFunction": true,
"rasterFunctionInfos": [
{
"name": "None",
"description": "",
"help": ""
}
],
"rasterTypeInfos": [
{
"name": "Raster Dataset",
"description": "Supports all ArcGIS Raster Datasets",
"help": ""
}
],
"mensurationCapabilities": "Basic",
"hasHistograms": false,
"hasColormap": false,
"hasRasterAttributeTable": false,
"minScale": 0,
"maxScale": 0,
"exportTilesAllowed": false,
"hasMultidimensions": false,
"supportsStatistics": false,
"supportsAdvancedQueries": false,
"editFieldsInfo": null,
"ownershipBasedAccessControlForRasters": null,
"allowComputeTiePoints": false,
"useStandardizedQueries": true,
"advancedQueryCapabilities": {
"useStandardizedQueries": true,
"supportsStatistics": false,
"supportsOrderBy": false,
"supportsDistinct": false,
"supportsPagination": false
},
"spatialReference": {
"wkid": 102110,
"latestWkid": 2154
}
}