<?xml version="1.0" encoding="UTF-8" standalone="no"?>
<metadata xml:lang="fr">
<Esri>
<CreaDate>20130527</CreaDate>
<CreaTime>18405400</CreaTime>
<ArcGISFormat>1.0</ArcGISFormat>
<ArcGISstyle>INSPIRE Metadata Directive</ArcGISstyle>
<SyncOnce>FALSE</SyncOnce>
<DataProperties>
<itemProps>
<itemName Sync="TRUE">Ombrage_lissé_médian_BDALTI_ass_25m_ain_B_5000</itemName>
<imsContentType Sync="TRUE" export="False">002</imsContentType>
<nativeExtBox>
<westBL Sync="TRUE">828837.500000</westBL>
<eastBL Sync="TRUE">948662.500000</eastBL>
<southBL Sync="TRUE">6499662.500000</southBL>
<northBL Sync="TRUE">6609362.500000</northBL>
<exTypeCode Sync="TRUE">1</exTypeCode>
</nativeExtBox>
</itemProps>
<coordRef>
<type Sync="TRUE">Projected</type>
<geogcsn Sync="TRUE">GCS_RGF_1993</geogcsn>
<csUnits Sync="TRUE">Linear Unit: Meter (1.000000)</csUnits>
<projcsn Sync="TRUE">RGF_1993_Lambert_93</projcsn>
<peXml Sync="TRUE">&lt;ProjectedCoordinateSystem xsi:type='typens:ProjectedCoordinateSystem' xmlns:xsi='http://www.w3.org/2001/XMLSchema-instance' xmlns:xs='http://www.w3.org/2001/XMLSchema' xmlns:typens='http://www.esri.com/schemas/ArcGIS/10.5'&gt;&lt;WKT&gt;PROJCS[&amp;quot;RGF_1993_Lambert_93&amp;quot;,GEOGCS[&amp;quot;GCS_RGF_1993&amp;quot;,DATUM[&amp;quot;D_RGF_1993&amp;quot;,SPHEROID[&amp;quot;GRS_1980&amp;quot;,6378137.0,298.257222101]],PRIMEM[&amp;quot;Greenwich&amp;quot;,0.0],UNIT[&amp;quot;Degree&amp;quot;,0.0174532925199433]],PROJECTION[&amp;quot;Lambert_Conformal_Conic&amp;quot;],PARAMETER[&amp;quot;False_Easting&amp;quot;,700000.0],PARAMETER[&amp;quot;False_Northing&amp;quot;,6600000.0],PARAMETER[&amp;quot;Central_Meridian&amp;quot;,3.0],PARAMETER[&amp;quot;Standard_Parallel_1&amp;quot;,44.0],PARAMETER[&amp;quot;Standard_Parallel_2&amp;quot;,49.0],PARAMETER[&amp;quot;Latitude_Of_Origin&amp;quot;,46.5],UNIT[&amp;quot;Meter&amp;quot;,1.0],AUTHORITY[&amp;quot;EPSG&amp;quot;,2154]]&lt;/WKT&gt;&lt;XOrigin&gt;-35597500&lt;/XOrigin&gt;&lt;YOrigin&gt;-23641900&lt;/YOrigin&gt;&lt;XYScale&gt;124074650.52332792&lt;/XYScale&gt;&lt;ZOrigin&gt;-100000&lt;/ZOrigin&gt;&lt;ZScale&gt;10000&lt;/ZScale&gt;&lt;MOrigin&gt;-100000&lt;/MOrigin&gt;&lt;MScale&gt;10000&lt;/MScale&gt;&lt;XYTolerance&gt;0.001&lt;/XYTolerance&gt;&lt;ZTolerance&gt;0.001&lt;/ZTolerance&gt;&lt;MTolerance&gt;0.001&lt;/MTolerance&gt;&lt;HighPrecision&gt;true&lt;/HighPrecision&gt;&lt;WKID&gt;102110&lt;/WKID&gt;&lt;LatestWKID&gt;2154&lt;/LatestWKID&gt;&lt;/ProjectedCoordinateSystem&gt;</peXml>
</coordRef>
</DataProperties>
<SyncDate>20200207</SyncDate>
<SyncTime>16080900</SyncTime>
<ModDate>20200207</ModDate>
<ModTime>16080900</ModTime>
<scaleRange>
<minScale>5000000</minScale>
<maxScale>5000</maxScale>
</scaleRange>
<ArcGISProfile>INSPIRE</ArcGISProfile>
</Esri>
<dataIdInfo>
<envirDesc Sync="FALSE">Esri ArcGIS 10.5.1.7333</envirDesc>
<dataLang>
<languageCode Sync="FALSE" value="fre">
</languageCode>
<countryCode Sync="TRUE" value="FRA">
</countryCode>
</dataLang>
<idCitation>
<resTitle Sync="TRUE">Ombrage_lissé_médian_BDALTI_ass_25m_ain_B_5000</resTitle>
<presForm>
<PresFormCd Sync="FALSE" value="003">
</PresFormCd>
</presForm>
<date>
<createDate>2013-05-27T00:00:00</createDate>
<pubDate>2013-05-27T00:00:00</pubDate>
<reviseDate>2013-05-27T00:00:00</reviseDate>
</date>
<citRespParty>
<editorSource>external</editorSource>
<editorDigest>b12c81aa91af453a73259826661853df</editorDigest>
<rpIndName>Service Observatoire et Géomatique</rpIndName>
<rpOrgName>Conseil général de l'Ain</rpOrgName>
<rpPosName>DGAA/DATE/SOG</rpPosName>
<rpCntInfo>
<cntAddress addressType="">
<delPoint>21 rue bourgmayer</delPoint>
<city>BOURG-EN-BRESSE</city>
<adminArea>AIN</adminArea>
<postCode>01000</postCode>
<eMailAdd>geomatique@cg01.fr</eMailAdd>
<country>FR</country>
</cntAddress>
<cntPhone>
<voiceNum tddtty="">04 74 47 05 74</voiceNum>
</cntPhone>
</rpCntInfo>
<editorSave>True</editorSave>
<displayName>Service Observatoire et Géomatique</displayName>
<role>
<RoleCd value="011">
</RoleCd>
</role>
</citRespParty>
</idCitation>
<spatRpType>
<SpatRepTypCd Sync="TRUE" value="002">
</SpatRepTypCd>
</spatRpType>
<dataExt>
<geoEle>
<GeoBndBox esriExtentType="search">
<exTypeCode Sync="TRUE">1</exTypeCode>
<westBL Sync="TRUE">4.652360</westBL>
<eastBL Sync="TRUE">6.245639</eastBL>
<northBL Sync="TRUE">46.571945</northBL>
<southBL Sync="TRUE">45.551274</southBL>
</GeoBndBox>
</geoEle>
</dataExt>
<idPurp>Raster d'ombrage lissé réalisé à partir de la BD Alti de l'IGN</idPurp>
<idAbs>Raster d'ombrage réalisé à partir de la BD Alti de l'IGN, et passé par un lissage réaliser à l'aide de la calculatrice Raster de Spacial Analist :FocalStatistics</idAbs>
<idCredit>source :CD01</idCredit>
<searchKeys>
<keyword>altimetrie</keyword>
<keyword>ombrage</keyword>
<keyword>Z</keyword>
<keyword>ain</keyword>
<keyword>relief</keyword>
</searchKeys>
<dataChar>
<CharSetCd value="004">
</CharSetCd>
</dataChar>
<idPoC>
<editorSource>external</editorSource>
<editorDigest>b12c81aa91af453a73259826661853df</editorDigest>
<rpIndName>Service Observatoire et Géomatique</rpIndName>
<rpOrgName>Conseil général de l'Ain</rpOrgName>
<rpPosName>DGAA/DATE/SOG</rpPosName>
<rpCntInfo>
<cntAddress addressType="">
<delPoint>21 rue bourgmayer</delPoint>
<city>BOURG-EN-BRESSE</city>
<adminArea>AIN</adminArea>
<postCode>01000</postCode>
<eMailAdd>geomatique@cg01.fr</eMailAdd>
<country>FR</country>
</cntAddress>
<cntPhone>
<voiceNum tddtty="">04 74 47 05 74</voiceNum>
</cntPhone>
</rpCntInfo>
<editorSave>True</editorSave>
<displayName>Service Observatoire et Géomatique</displayName>
<role>
<RoleCd value="011">
</RoleCd>
</role>
</idPoC>
<resMaint>
<maintFreq>
<MaintFreqCd value="011">
</MaintFreqCd>
</maintFreq>
<maintCont>
<editorSource>external</editorSource>
<editorDigest>b12c81aa91af453a73259826661853df</editorDigest>
<rpIndName>Service Observatoire et Géomatique</rpIndName>
<rpOrgName>Conseil général de l'Ain</rpOrgName>
<rpPosName>DGAA/DATE/SOG</rpPosName>
<rpCntInfo>
<cntAddress addressType="">
<delPoint>21 rue bourgmayer</delPoint>
<city>BOURG-EN-BRESSE</city>
<adminArea>AIN</adminArea>
<postCode>01000</postCode>
<eMailAdd>geomatique@cg01.fr</eMailAdd>
<country>FR</country>
</cntAddress>
<cntPhone>
<voiceNum tddtty="">04 74 47 05 74</voiceNum>
</cntPhone>
</rpCntInfo>
<editorSave>True</editorSave>
<displayName>Service Observatoire et Géomatique</displayName>
<role>
<RoleCd value="011">
</RoleCd>
</role>
</maintCont>
</resMaint>
<resConst>
<Consts>
<useLimit>Ayant droit du RGE de l'IGN</useLimit>
</Consts>
</resConst>
<resConst>
<LegConsts>
<accessConsts>
<RestrictCd value="001">
</RestrictCd>
</accessConsts>
<useConsts>
<RestrictCd value="001">
</RestrictCd>
</useConsts>
</LegConsts>
</resConst>
<tpCat>
<TopicCatCd value="006">
</TopicCatCd>
</tpCat>
</dataIdInfo>
<mdLang>
<languageCode Sync="FALSE" value="fre">
</languageCode>
<countryCode Sync="TRUE" value="FRA">
</countryCode>
</mdLang>
<distInfo>
<distFormat>
<formatName Sync="TRUE">Jeu de données raster de géodatabase fichier</formatName>
</distFormat>
</distInfo>
<mdHrLv>
<ScopeCd Sync="TRUE" value="005">
</ScopeCd>
</mdHrLv>
<mdHrLvName Sync="TRUE">dataset</mdHrLvName>
<refSysInfo>
<RefSystem dimension="">
<refSysID>
<identCode Sync="TRUE" code="2154">
</identCode>
<idCodeSpace Sync="TRUE">EPSG</idCodeSpace>
<idVersion Sync="TRUE">6.16(9.0.0)</idVersion>
</refSysID>
</RefSystem>
</refSysInfo>
<spdoinfo>
<rastinfo>
<rasttype Sync="TRUE">Pixel</rasttype>
<rowcount Sync="TRUE">4388</rowcount>
<colcount Sync="TRUE">4793</colcount>
<rastxsz Sync="TRUE">25,000000</rastxsz>
<rastysz Sync="TRUE">25,000000</rastysz>
<rastbpp Sync="TRUE">8</rastbpp>
<vrtcount Sync="TRUE">1</vrtcount>
<rastorig Sync="TRUE">Upper Left</rastorig>
<rastcmap Sync="TRUE">FALSE</rastcmap>
<rastcomp Sync="TRUE">LZ77</rastcomp>
<rastband Sync="TRUE">1</rastband>
<rastdtyp Sync="TRUE">pixel codes</rastdtyp>
<rastifor Sync="TRUE">FGDBR</rastifor>
<rastplyr Sync="TRUE">TRUE</rastplyr>
</rastinfo>
</spdoinfo>
<spref>
<horizsys>
<planar>
<planci>
<plance Sync="TRUE">row and column</plance>
<coordrep>
<absres Sync="TRUE">25,000000</absres>
<ordres Sync="TRUE">25,000000</ordres>
</coordrep>
</planci>
</planar>
</horizsys>
</spref>
<eainfo>
<detailed Name="VAT_Ombrage_lissé_médian_BDALTI_ass_25m_ain_B_5000">
<enttyp>
<enttypl Sync="TRUE">VAT_Ombrage_lissé_médian_BDALTI_ass_25m_ain_B_5000</enttypl>
<enttypt Sync="TRUE">Table</enttypt>
<enttypc Sync="TRUE">254</enttypc>
</enttyp>
<attr>
<attrlabl Sync="TRUE">OBJECTID</attrlabl>
<attalias Sync="TRUE">OBJECTID</attalias>
<attrtype Sync="TRUE">OID</attrtype>
<attwidth Sync="TRUE">4</attwidth>
<atprecis Sync="TRUE">0</atprecis>
<attscale Sync="TRUE">0</attscale>
<attrdef Sync="TRUE">Internal feature number.</attrdef>
<attrdefs Sync="TRUE">Esri</attrdefs>
<attrdomv>
<udom Sync="TRUE">Sequential unique whole numbers that are automatically generated.</udom>
</attrdomv>
</attr>
<attr>
<attrlabl Sync="TRUE">Value</attrlabl>
<attalias Sync="TRUE">Value</attalias>
<attrtype Sync="TRUE">Integer</attrtype>
<attwidth Sync="TRUE">4</attwidth>
<atprecis Sync="TRUE">0</atprecis>
<attscale Sync="TRUE">0</attscale>
</attr>
<attr>
<attrlabl Sync="TRUE">Count</attrlabl>
<attalias Sync="TRUE">Count</attalias>
<attrtype Sync="TRUE">Double</attrtype>
<attwidth Sync="TRUE">8</attwidth>
<atprecis Sync="TRUE">0</atprecis>
<attscale Sync="TRUE">0</attscale>
</attr>
</detailed>
</eainfo>
<mdDateSt Sync="TRUE">20200207</mdDateSt>
<mdChar>
<CharSetCd value="004">
</CharSetCd>
</mdChar>
<mdContact>
<editorSource>external</editorSource>
<editorDigest>b12c81aa91af453a73259826661853df</editorDigest>
<rpIndName>Service Observatoire et Géomatique</rpIndName>
<rpOrgName>Conseil général de l'Ain</rpOrgName>
<rpPosName>DGAA/DATE/SOG</rpPosName>
<rpCntInfo>
<cntAddress addressType="">
<delPoint>21 rue bourgmayer</delPoint>
<city>BOURG-EN-BRESSE</city>
<adminArea>AIN</adminArea>
<postCode>01000</postCode>
<eMailAdd>geomatique@cg01.fr</eMailAdd>
<country>FR</country>
</cntAddress>
<cntPhone>
<voiceNum tddtty="">04 74 47 05 74</voiceNum>
</cntPhone>
</rpCntInfo>
<editorSave>True</editorSave>
<displayName>Service Observatoire et Géomatique</displayName>
<role>
<RoleCd value="007">
</RoleCd>
</role>
</mdContact>
<dqInfo>
<dqScope>
<scpLvl>
<ScopeCd value="005">
</ScopeCd>
</scpLvl>
</dqScope>
</dqInfo>
</metadata>
