{
 "currentVersion": 10.71,
 "serviceDescription": "Raster d'ombrage réalisé à partir de la BD Alti de l'IGN, et passé par un lissage réaliser à l'aide de la calculatrice Raster de Spacial Analist :FocalStatistics",
 "name": "externe/Ombrage_dep01",
 "description": "Raster d'ombrage réalisé à partir de la BD Alti de l'IGN, et passé par un lissage réaliser à l'aide de la calculatrice Raster de Spacial Analist :FocalStatistics",
 "extent": {
  "xmin": 828837.5,
  "ymin": 6499662.5,
  "xmax": 948662.5,
  "ymax": 6609362.5,
  "spatialReference": {
   "wkid": 102110,
   "latestWkid": 2154
  }
 },
 "initialExtent": {
  "xmin": 828837.5,
  "ymin": 6499662.5,
  "xmax": 948662.5,
  "ymax": 6609362.5,
  "spatialReference": {
   "wkid": 102110,
   "latestWkid": 2154
  }
 },
 "fullExtent": {
  "xmin": 828837.5,
  "ymin": 6499662.5,
  "xmax": 948662.5,
  "ymax": 6609362.5,
  "spatialReference": {
   "wkid": 102110,
   "latestWkid": 2154
  }
 },
 "pixelSizeX": 25,
 "pixelSizeY": 25,
 "bandCount": 1,
 "pixelType": "U8",
 "minPixelSize": 0,
 "maxPixelSize": 0,
 "copyrightText": "source :CD01",
 "serviceDataType": "esriImageServiceDataTypeGeneric",
 "minValues": [
  0
 ],
 "maxValues": [
  253
 ],
 "meanValues": [
  177.24721720754266
 ],
 "stdvValues": [
  20.84212873597111
 ],
 "objectIdField": "",
 "fields": [],
 "capabilities": "Image,Metadata,Mensuration",
 "defaultMosaicMethod": "Center",
 "allowedMosaicMethods": "",
 "sortField": "",
 "sortValue": null,
 "mosaicOperator": "First",
 "defaultCompressionQuality": 75,
 "defaultResamplingMethod": "Bilinear",
 "maxImageHeight": 4100,
 "maxImageWidth": 15000,
 "allowRasterFunction": true,
 "rasterFunctionInfos": [
  {
   "name": "None",
   "description": "",
   "help": ""
  }
 ],
 "rasterTypeInfos": [
  {
   "name": "Raster Dataset",
   "description": "Supports all ArcGIS Raster Datasets",
   "help": ""
  }
 ],
 "mensurationCapabilities": "Basic",
 "hasHistograms": true,
 "hasColormap": false,
 "hasRasterAttributeTable": true,
 "minScale": 0,
 "maxScale": 0,
 "exportTilesAllowed": false,
 "hasMultidimensions": false,
 "supportsStatistics": false,
 "supportsAdvancedQueries": false,
 "editFieldsInfo": null,
 "ownershipBasedAccessControlForRasters": null,
 "allowComputeTiePoints": false,
 "useStandardizedQueries": true,
 "advancedQueryCapabilities": {
  "useStandardizedQueries": true,
  "supportsStatistics": false,
  "supportsOrderBy": false,
  "supportsDistinct": false,
  "supportsPagination": false
 },
 "spatialReference": {
  "wkid": 102110,
  "latestWkid": 2154
 }
}
