View In:
ArcGIS JavaScript
ArcGIS Online map viewer
ArcGIS Earth
ArcMap
ArcGIS Pro
View Footprint In:
ArcGIS Online map viewer
Service Description: Il s'agit d'un plan établi à l'échelle du 1|5000e (soit 1 cm = 50 mètres), qui diviser le territoire communal en masses circonscrites par des limites naturelles : tous les terrains cultivés de la même manière et portant des récoltes identiques (terres labourables, vignes, etc.) sont réunis en une seule et même masse puis portés au plan. A l'intérieur de chaque agglomérat, où l'on ne tient pas compte du nombre de propriétaires de parcelles, ceux-ci déclarent la superficie des fonds qu'ils détiennent. L'administration, après avoir tenté de contrôler ces déclarations, reporte la différence entre la somme des contenances déclarées et le résultat de l'arpentage sur toutes les contenances fournies, si bien que le propriétaire dont la déclaration est juste se trouve lésé par les fausses indications de ses voisins. Cest plan ont été photographier aux archives nationnal avant d'être assemble et recalé par nos soins.
Map Name: Couches
Legend
All Layers and Tables
Layers:
Description:
Copyright Text: CD01
Spatial Reference:
102100
(3857)
Single Fused Map Cache: true
Tile Info:
- Height: 256
- Width: 256
- DPI: 96
-
Levels of Detail: 20
-
Level ID: 0
[ Start Tile, End Tile ]
- Resolution: 156543.03392800014
- Scale: 5.91657527591555E8
-
Level ID: 1
[ Start Tile, End Tile ]
- Resolution: 78271.51696399994
- Scale: 2.95828763795777E8
-
Level ID: 2
[ Start Tile, End Tile ]
- Resolution: 39135.75848200009
- Scale: 1.47914381897889E8
-
Level ID: 3
[ Start Tile, End Tile ]
- Resolution: 19567.87924099992
- Scale: 7.3957190948944E7
-
Level ID: 4
[ Start Tile, End Tile ]
- Resolution: 9783.93962049996
- Scale: 3.6978595474472E7
-
Level ID: 5
[ Start Tile, End Tile ]
- Resolution: 4891.96981024998
- Scale: 1.8489297737236E7
- Format: MIXED
- Compression Quality: 75.0
- Origin: X: -2.0037508342787E7
Y: 2.0037508342787E7
- Spatial Reference: 102100
(3857)
Initial Extent:
XMin: 524383.1630520669
YMin: 5718187.238049771
XMax: 684218.9586936195
YMax: 5878822.620108181
Spatial Reference: 102100
Full Extent:
XMin: 531242.7054036779
YMin: 5747287.8382900115
XMax: 649700.4060775716
YMax: 5861513.462585806
Spatial Reference: 102100
Units: esriMeters
Supported Image Format Types: PNG32,PNG24,PNG,JPG,DIB,TIFF,EMF,PS,PDF,GIF,SVG,SVGZ,BMP
Document Info:
Title: Plan par masse de culture
Author: Christophe Trégouët
Comments: Il s'agit d'un plan établi à l'échelle du 1|5000e (soit 1 cm = 50 mètres), qui diviser le territoire communal en masses circonscrites par des limites naturelles : tous les terrains cultivés de la même manière et portant des récoltes identiques (terres labourables, vignes, etc.) sont réunis en une seule et même masse puis portés au plan. A l'intérieur de chaque agglomérat, où l'on ne tient pas compte du nombre de propriétaires de parcelles, ceux-ci déclarent la superficie des fonds qu'ils détiennent. L'administration, après avoir tenté de contrôler ces déclarations, reporte la différence entre la somme des contenances déclarées et le résultat de l'arpentage sur toutes les contenances fournies, si bien que le propriétaire dont la déclaration est juste se trouve lésé par les fausses indications de ses voisins. Cest plan ont été photographier aux archives nationnal avant d'être assemble et recalé par nos soins.
Subject: Plan par masse de culture disponible sur le territoire du département de l'Ain.Plans réalisés entre l'an 11 et l'an 15 du calandrier révolutionnaire soit 1803-1805.
Category:
Keywords: cadastre,ain,histoire
AntialiasingMode: None
TextAntialiasingMode: Force
Supports Dynamic Layers: false
MaxRecordCount: 1000
MaxImageHeight: 4096
MaxImageWidth: 4096
Supported Query Formats: JSON, geoJSON
Min Scale: 9244648.868618
Max Scale: 2256.994353
Supports Datum Transformation: true
Child Resources:
Info
Supported Operations:
Export Map
Return Updates