View In:
ArcGIS JavaScript
ArcGIS Online map viewer
ArcGIS Earth
ArcMap
ArcGIS Pro
View Footprint In:
ArcGIS Online map viewer
Service Description: ce scan a été réalisé par l'assemblage des photos de l'exemplaire couleurs que possède le service de la conservation du département de l'Ain. Une foi assemble ce fichier numérique a été recalé sur la base du france rasetr de l'IGN.plan papier et photo conservation départemental (Jorge Alves)assemblage et calage du plan service Observatoire et géomatique
Map Name: Couches
Legend
All Layers and Tables
Layers:
Description:
Copyright Text: CD 01
Spatial Reference:
102100
(3857)
Single Fused Map Cache: true
Tile Info:
- Height: 256
- Width: 256
- DPI: 96
-
Levels of Detail: 20
-
Level ID: 1
[ Start Tile, End Tile ]
- Resolution: 78271.5169639999
- Scale: 2.95828763795777E8
-
Level ID: 2
[ Start Tile, End Tile ]
- Resolution: 39135.7584820001
- Scale: 1.47914381897889E8
-
Level ID: 3
[ Start Tile, End Tile ]
- Resolution: 19567.8792409999
- Scale: 7.3957190948944E7
-
Level ID: 4
[ Start Tile, End Tile ]
- Resolution: 9783.93962049996
- Scale: 3.6978595474472E7
-
Level ID: 5
[ Start Tile, End Tile ]
- Resolution: 4891.96981024998
- Scale: 1.8489297737236E7
- Format: MIXED
- Compression Quality: 75.0
- Origin: X: -2.0037508342787E7
Y: 2.0037508342787E7
- Spatial Reference: 102100
(3857)
Initial Extent:
XMin: 490327.1930211432
YMin: 5663653.861317514
XMax: 753056.4283163061
YMax: 5927664.615925601
Spatial Reference: 102100
Full Extent:
XMin: 492236.447302136
YMin: 5697594.625478095
XMax: 749945.7381553733
YMax: 5892812.653664801
Spatial Reference: 102100
Units: esriMeters
Supported Image Format Types: PNG32,PNG24,PNG,JPG,DIB,TIFF,EMF,PS,PDF,GIF,SVG,SVGZ,BMP
Document Info:
Title: carte de cassini
Author: Christophe Trégouët
Comments: ce scan a été réalisé par l'assemblage des photos de l'exemplaire couleurs que possède le service de la conservation du département de l'Ain. Une foi assemble ce fichier numérique a été recalé sur la base du france rasetr de l'IGN.plan papier et photo conservation départemental (Jorge Alves)assemblage et calage du plan service Observatoire et géomatique
Subject: carte de cassini de 1766 issu des Collections des musées département de l'Ain
Category:
Keywords: cassini,histoire
AntialiasingMode: None
TextAntialiasingMode: Force
Supports Dynamic Layers: false
MaxRecordCount: 1000
MaxImageHeight: 4096
MaxImageWidth: 4096
Supported Query Formats: JSON, geoJSON
Min Scale: 9244648.868618
Max Scale: 18055.954822
Supports Datum Transformation: true
Child Resources:
Info
Supported Operations:
Export Map
Return Updates