View In:
ArcGIS JavaScript
ArcGIS Online map viewer
ArcGIS Earth
ArcMap
ArcGIS Pro
View Footprint In:
ArcGIS Online map viewer
Service Description: Une expertise technique a été réalisée par l’ensemble des partenaires présents depuis le lancement du projet (DDT, DREAL, Région, CBNA, LPO, Syndicats de rivière, ONF…). L’ensemble des milieux constituant un éco-paysages a été qualifié à l’aide de nombreux indicateurs permettant de hiérarchiser leur qualité et leur fonctionnalité écologique à l’échelle du Département (Cf. Notice technique) ; ce travail a permis d’obtenir les cœurs de biodiversité. .Livraison mars 2017
Map Name: Couches
Legend
All Layers and Tables
Layers:
Description:
Copyright Text: CEN RA & CD01
Spatial Reference:
102100
(3857)
Single Fused Map Cache: true
Tile Info:
- Height: 256
- Width: 256
- DPI: 96
-
Levels of Detail: 20
-
Level ID: 0
[ Start Tile, End Tile ]
- Resolution: 156543.03392800014
- Scale: 5.91657527591555E8
-
Level ID: 1
[ Start Tile, End Tile ]
- Resolution: 78271.51696399994
- Scale: 2.95828763795777E8
-
Level ID: 2
[ Start Tile, End Tile ]
- Resolution: 39135.75848200009
- Scale: 1.47914381897889E8
-
Level ID: 3
[ Start Tile, End Tile ]
- Resolution: 19567.87924099992
- Scale: 7.3957190948944E7
-
Level ID: 4
[ Start Tile, End Tile ]
- Resolution: 9783.93962049996
- Scale: 3.6978595474472E7
-
Level ID: 5
[ Start Tile, End Tile ]
- Resolution: 4891.96981024998
- Scale: 1.8489297737236E7
- Format: PNG
- Compression Quality: 0.0
- Origin: X: -2.0037508342787E7
Y: 2.0037508342787E7
- Spatial Reference: 102100
(3857)
Initial Extent:
XMin: 506469.95360407664
YMin: 5749127.791178701
XMax: 741598.2422587487
YMax: 5893784.63775235
Spatial Reference: 102100
Full Extent:
XMin: 526469.2982993725
YMin: 5717421.407443228
XMax: 655413.3209966115
YMax: 5864648.90681262
Spatial Reference: 102100
Units: esriMeters
Supported Image Format Types: PNG32,PNG24,PNG,JPG,DIB,TIFF,EMF,PS,PDF,GIF,SVG,SVGZ,BMP
Document Info:
Title: Cœurs de biodiversité
Author: CD01
Comments: Une expertise technique a été réalisée par l’ensemble des partenaires présents depuis le lancement du projet (DDT, DREAL, Région, CBNA, LPO, Syndicats de rivière, ONF…). L’ensemble des milieux constituant un éco-paysages a été qualifié à l’aide de nombreux indicateurs permettant de hiérarchiser leur qualité et leur fonctionnalité écologique à l’échelle du Département (Cf. Notice technique) ; ce travail a permis d’obtenir les cœurs de biodiversité. .Livraison mars 2017
Subject: Cœurs de biodiversité reconnus d’intérêt Départemental (hors C.C. du Pays de Gex)
Category:
Keywords: environnement,biodiversité,ain
AntialiasingMode: None
TextAntialiasingMode: Force
Supports Dynamic Layers: false
MaxRecordCount: 5000
MaxImageHeight: 4096
MaxImageWidth: 4096
Supported Query Formats: JSON, geoJSON
Min Scale: 9244648.868618
Max Scale: 18055.954822
Supports Datum Transformation: true
Child Resources:
Info
Supported Operations:
Export Map
Identify
QueryDomains
QueryLegends
Find
Return Updates