View In:
ArcGIS JavaScript
ArcGIS Online map viewer
ArcGIS Earth
ArcMap
ArcGIS Pro
View Footprint In:
ArcGIS Online map viewer
Service Description: Les forêts constituent un socle paysager et récréatif solide pour l’attractivité touristique du département de l’Ain ainsi qu’une ressource économique majeure (filière bois). Livraison mars 2017
Map Name: Couches
Legend
All Layers and Tables
Layers:
Description:
Copyright Text: CEN RA & CD01
Spatial Reference:
102100
(3857)
Single Fused Map Cache: true
Tile Info:
- Height: 256
- Width: 256
- DPI: 96
-
Levels of Detail: 20
-
Level ID: 0
[ Start Tile, End Tile ]
- Resolution: 156543.03392800014
- Scale: 5.91657527591555E8
-
Level ID: 1
[ Start Tile, End Tile ]
- Resolution: 78271.51696399994
- Scale: 2.95828763795777E8
-
Level ID: 2
[ Start Tile, End Tile ]
- Resolution: 39135.75848200009
- Scale: 1.47914381897889E8
-
Level ID: 3
[ Start Tile, End Tile ]
- Resolution: 19567.87924099992
- Scale: 7.3957190948944E7
-
Level ID: 4
[ Start Tile, End Tile ]
- Resolution: 9783.93962049996
- Scale: 3.6978595474472E7
-
Level ID: 5
[ Start Tile, End Tile ]
- Resolution: 4891.96981024998
- Scale: 1.8489297737236E7
- Format: PNG
- Compression Quality: 0.0
- Origin: X: -2.0037508342787E7
Y: 2.0037508342787E7
- Spatial Reference: 102100
(3857)
Initial Extent:
XMin: 505905.7263440868
YMin: 5720289.324413089
XMax: 740245.7364753238
YMax: 5864448.449463059
Spatial Reference: 102100
Full Extent:
XMin: 544026.7048363019
YMin: 5717435.153920631
XMax: 654445.6187484737
YMax: 5837637.965952012
Spatial Reference: 102100
Units: esriMeters
Supported Image Format Types: PNG32,PNG24,PNG,JPG,DIB,TIFF,EMF,PS,PDF,GIF,SVG,SVGZ,BMP
Document Info:
Title: continuités forestières
Author: CD01
Comments: Les forêts constituent un socle paysager et récréatif solide pour l’attractivité touristique du département de l’Ain ainsi qu’une ressource économique majeure (filière bois). Livraison mars 2017
Subject: continuités forestières Départemental (hors C.C. du Pays de Gex)
Category:
Keywords: environnement,biodiversité,ain
AntialiasingMode: None
TextAntialiasingMode: Force
Supports Dynamic Layers: false
MaxRecordCount: 5000
MaxImageHeight: 4096
MaxImageWidth: 4096
Supported Query Formats: JSON, geoJSON
Min Scale: 9244648.868618
Max Scale: 18055.954822
Supports Datum Transformation: true
Child Resources:
Info
Supported Operations:
Export Map
Identify
QueryDomains
QueryLegends
Find
Return Updates