View In:
ArcGIS JavaScript
ArcGIS Online map viewer
ArcGIS Earth
ArcMap
ArcGIS Pro
View Footprint In:
ArcGIS Online map viewer
Service Description: Ce sont des milieux herbacés originaux qui se développent sur des sols peu épais, pauvres en éléments nutritifs et qui ne retiennent pas l’eau. Elles constituent un patrimoine naturel remarquable qui abrite une grande diversité de plantes, dont certaines sont rares et strictement inféodées à ces milieux.
Map Name: Couches
Legend
All Layers and Tables
Layers:
Description:
Copyright Text: CEN RA & CD01
Spatial Reference:
102100
(3857)
Single Fused Map Cache: true
Tile Info:
- Height: 256
- Width: 256
- DPI: 96
-
Levels of Detail: 20
-
Level ID: 0
[ Start Tile, End Tile ]
- Resolution: 156543.03392800014
- Scale: 5.91657527591555E8
-
Level ID: 1
[ Start Tile, End Tile ]
- Resolution: 78271.51696399994
- Scale: 2.95828763795777E8
-
Level ID: 2
[ Start Tile, End Tile ]
- Resolution: 39135.75848200009
- Scale: 1.47914381897889E8
-
Level ID: 3
[ Start Tile, End Tile ]
- Resolution: 19567.87924099992
- Scale: 7.3957190948944E7
-
Level ID: 4
[ Start Tile, End Tile ]
- Resolution: 9783.93962049996
- Scale: 3.6978595474472E7
-
Level ID: 5
[ Start Tile, End Tile ]
- Resolution: 4891.96981024998
- Scale: 1.8489297737236E7
- Format: PNG
- Compression Quality: 0.0
- Origin: X: -2.0037508342787E7
Y: 2.0037508342787E7
- Spatial Reference: 102100
(3857)
Initial Extent:
XMin: 533132.8744221748
YMin: 5752419.206802255
XMax: 682386.8937050495
YMax: 5844085.064625742
Spatial Reference: 102100
Full Extent:
XMin: 565562.1473891437
YMin: 5722493.431150779
XMax: 648631.758711984
YMax: 5837580.035806207
Spatial Reference: 102100
Units: esriMeters
Supported Image Format Types: PNG32,PNG24,PNG,JPG,DIB,TIFF,EMF,PS,PDF,GIF,SVG,SVGZ,BMP
Document Info:
Title: continuités prairies sêches
Author: CD01
Comments: Ce sont des milieux herbacés originaux qui se développent sur des sols peu épais, pauvres en éléments nutritifs et qui ne retiennent pas l’eau. Elles constituent un patrimoine naturel remarquable qui abrite une grande diversité de plantes, dont certaines sont rares et strictement inféodées à ces milieux.
Subject: continuités prairies sêches Départemental (hors C.C. du Pays de Gex)
Category:
Keywords: environnement,biodiversité,ain
AntialiasingMode: None
TextAntialiasingMode: None
Supports Dynamic Layers: false
MaxRecordCount: 5000
MaxImageHeight: 4096
MaxImageWidth: 4096
Supported Query Formats: JSON, geoJSON
Min Scale: 9244648.868618
Max Scale: 18055.954822
Supports Datum Transformation: true
Child Resources:
Info
Supported Operations:
Export Map
Identify
QueryDomains
QueryLegends
Find
Return Updates