View In:
ArcGIS JavaScript
ArcGIS Online map viewer
ArcGIS Earth
ArcMap
ArcGIS Pro
View Footprint In:
ArcGIS Online map viewer
Service Description: Scan des feuilles 70, 74,... michelin 1936 assemblées et recalé sur un fond france raster de l'IGN.
Se scan a été réalisé initialement pour servir de fond cartographie géo historique aux cartes et au site internet du musée de la résistance et de la déportation de Nantua (Ain).
Il est utilisé pour présenter tous les thèmes en rapport avec la période d’Occupation en les localisant sur autant de cartes de L’Ain / Haut-Jura.
scan réalisé à partir des plans papier par les archives du département de l'Ain, assemblage et recalage réaliser par le service observatoire et géomatique, le tous en 2012.
Map Name: Couches
Legend
All Layers and Tables
Layers:
Description:
Copyright Text: Michelin 1936
Spatial Reference:
102100
(3857)
Single Fused Map Cache: true
Tile Info:
- Height: 256
- Width: 256
- DPI: 96
-
Levels of Detail: 20
-
Level ID: 0
[ Start Tile, End Tile ]
- Resolution: 156543.03392800014
- Scale: 5.91657527591555E8
-
Level ID: 1
[ Start Tile, End Tile ]
- Resolution: 78271.51696399994
- Scale: 2.95828763795777E8
-
Level ID: 2
[ Start Tile, End Tile ]
- Resolution: 39135.75848200009
- Scale: 1.47914381897889E8
-
Level ID: 3
[ Start Tile, End Tile ]
- Resolution: 19567.87924099992
- Scale: 7.3957190948944E7
-
Level ID: 4
[ Start Tile, End Tile ]
- Resolution: 9783.93962049996
- Scale: 3.6978595474472E7
-
Level ID: 5
[ Start Tile, End Tile ]
- Resolution: 4891.96981024998
- Scale: 1.8489297737236E7
- Format: MIXED
- Compression Quality: 75.0
- Origin: X: -2.0037508342787E7
Y: 2.0037508342787E7
- Spatial Reference: 102100
(3857)
Initial Extent:
XMin: 448743.367636874
YMin: 5667711.981806492
XMax: 748915.6944149788
YMax: 5969312.466839278
Spatial Reference: 102100
Full Extent:
XMin: 200194.47936507835
YMin: 5534874.758788972
XMax: 880200.7208248695
YMax: 6111576.287480338
Spatial Reference: 102100
Units: esriMeters
Supported Image Format Types: PNG32,PNG24,PNG,JPG,DIB,TIFF,EMF,PS,PDF,GIF,SVG,SVGZ,BMP
Document Info:
Title: scan michelin 1936
Author: CD01
Comments: Scan des feuilles 70, 74,... michelin 1936 assemblées et recalé sur un fond france raster de l'IGN.
Se scan a été réalisé initialement pour servir de fond cartographie géo historique aux cartes et au site internet du musée de la résistance et de la déportation de Nantua (Ain).
Il est utilisé pour présenter tous les thèmes en rapport avec la période d’Occupation en les localisant sur autant de cartes de L’Ain / Haut-Jura.
scan réalisé à partir des plans papier par les archives du département de l'Ain, assemblage et recalage réaliser par le service observatoire et géomatique, le tous en 2012.
Subject: scan cartes michelin 1936
Category:
Keywords: michelin,archive,histoire
AntialiasingMode: None
TextAntialiasingMode: Force
Supports Dynamic Layers: false
MaxRecordCount: 1000
MaxImageHeight: 4096
MaxImageWidth: 4096
Supported Query Formats: JSON, geoJSON
Min Scale: 9244648.868618
Max Scale: 9027.977411
Supports Datum Transformation: true
Child Resources:
Info
Supported Operations:
Export Map
Return Updates